BEGIN:VCALENDAR
VERSION:2.0
PRODID:icalendar-ruby
CALSCALE:GREGORIAN
METHOD:PUBLISH
BEGIN:VEVENT
DTSTAMP:20260422T144136Z
UID:60-1633948@firstbaptistvidalia.com
DTSTART:20261014T150000Z
DTEND:20261014T160000Z
CLASS:PUBLIC
CREATED:20260422T085425
DESCRIPTION:Please contact Irene Young at (318) 719-0690 to sign up. Leave 
 a message if she doesn't answer and she will call you back. 
LAST-MODIFIED:20260422T085425
LOCATION:Fellowship Hall
SUMMARY:Forever Fit Class
URL;VALUE=URI:https://firstbaptistvidalia.com/events/forever-fit-class--60/
 2026-10-14
END:VEVENT
END:VCALENDAR
