BEGIN:VCALENDAR
VERSION:2.0
PRODID:icalendar-ruby
CALSCALE:GREGORIAN
METHOD:PUBLISH
BEGIN:VEVENT
DTSTAMP:20260422T124034Z
UID:51-1631767@firstbaptistvidalia.com
DTSTART:20261006T233000Z
DTEND:20261007T003000Z
CLASS:PUBLIC
CREATED:20260422T055944
DESCRIPTION:Please no walk-ins. Contact Irene Young to sign up. Call the ch
 urch office for more information. 
LAST-MODIFIED:20260422T055944
LOCATION:Gym
SUMMARY:Pickleball
URL;VALUE=URI:https://firstbaptistvidalia.com/events/pickleball/2026-10-06
END:VEVENT
END:VCALENDAR
