BEGIN:VCALENDAR
VERSION:2.0
PRODID:icalendar-ruby
CALSCALE:GREGORIAN
METHOD:PUBLISH
BEGIN:VEVENT
DTSTAMP:20260422T174419Z
UID:51-1634739@firstbaptistvidalia.com
DTSTART:20261104T003000Z
DTEND:20261104T013000Z
CLASS:PUBLIC
CREATED:20260422T114948
DESCRIPTION:Please no walk-ins. Contact Irene Young to sign up. Call the ch
 urch office for more information. 
LAST-MODIFIED:20260422T114948
LOCATION:Gym
SUMMARY:Pickleball
URL;VALUE=URI:https://firstbaptistvidalia.com/events/pickleball/2026-11-03
END:VEVENT
END:VCALENDAR
