BEGIN:VCALENDAR
VERSION:2.0
PRODID:icalendar-ruby
CALSCALE:GREGORIAN
METHOD:PUBLISH
BEGIN:VEVENT
DTSTAMP:20260423T114959Z
UID:62-1641611@firstbaptistvidalia.com
DTSTART:20260918T133000Z
DTEND:20260918T143000Z
CLASS:PUBLIC
CREATED:20260423T055957
DESCRIPTION:Please contact Irene Young at (318) 719-0690 to sign up. Leave 
 a message if she doesn't answer and she will call you back. 
LAST-MODIFIED:20260423T055957
LOCATION:Fellowship Hall
SUMMARY:Step Bench Class
URL;VALUE=URI:https://firstbaptistvidalia.com/events/step-bench-class--62/2
 026-09-18
END:VEVENT
END:VCALENDAR
